BEGIN:VCALENDAR
VERSION:2.0
PRODID:-//Upper Grand Family Health Team - ECPv6.14.2//NONSGML v1.0//EN
CALSCALE:GREGORIAN
METHOD:PUBLISH
X-WR-CALNAME:Upper Grand Family Health Team
X-ORIGINAL-URL:https://uppergrandfht.org
X-WR-CALDESC:Events for Upper Grand Family Health Team
REFRESH-INTERVAL;VALUE=DURATION:PT1H
X-Robots-Tag:noindex
X-PUBLISHED-TTL:PT1H
BEGIN:VTIMEZONE
TZID:UTC
BEGIN:STANDARD
TZOFFSETFROM:+0000
TZOFFSETTO:+0000
TZNAME:UTC
DTSTART:20260101T000000
END:STANDARD
END:VTIMEZONE
BEGIN:VEVENT
DTSTART;TZID=UTC:20260423T150000
DTEND;TZID=UTC:20260423T170000
DTSTAMP:20260420T230058
CREATED:20251212T170425Z
LAST-MODIFIED:20251212T170425Z
UID:8101-1776956400-1776963600@uppergrandfht.org
SUMMARY:Heart Health Nutrition Class
DESCRIPTION:Learn how food and nutrition can help to lower your cholesterol\, manage your blood pressure\, and help you recover from a cardiac event. Meet online in a group setting with one of our registered dietitians. \n  \nFollow the link below to learn more or Check Dates and register here.
URL:https://uppergrandfht.org/event/heart-health-nutrition-class-3/
LOCATION:Upper Grand Family Health Team\, 107-6420 Beatty Line Rd\, Fergus\, Ontario\, N1M 2W3\, Canada
ORGANIZER;CN="Upper Grand FHT":MAILTO:info@uppergrandfht.org
END:VEVENT
BEGIN:VEVENT
DTSTART;TZID=UTC:20260430T140000
DTEND;TZID=UTC:20260430T160000
DTSTAMP:20260420T230058
CREATED:20251125T184556Z
LAST-MODIFIED:20251125T184556Z
UID:8095-1777557600-1777564800@uppergrandfht.org
SUMMARY:Intro to Diabetes and Pre-Diabetes: In-Person & Virtual Class
DESCRIPTION:Have you recently been told that you have diabetes or pre-diabetes or do you want a refresher? Do you support someone with diabetes or pre-diabetes and want more information? \nCome sit in on this education session to learn what it means to have prediabetes/diabetes\, how the body has changed\, and how you can manage it while still enjoying life to the fullest. Feel free to invite a friend or family member to join for support. \nFollow the link below to learn more or Register here. \nIf you wish to bring a support person/partner with you to an in-person session\, they must also register for the session as our space is limited.
URL:https://uppergrandfht.org/event/intro-to-diabetes-and-pre-diabetes-in-person-virtual-class-6/
LOCATION:Upper Grand Family Health Team\, 107-6420 Beatty Line Rd\, Fergus\, Ontario\, N1M 2W3\, Canada
ORGANIZER;CN="Upper Grand FHT":MAILTO:info@uppergrandfht.org
END:VEVENT
END:VCALENDAR