BEGIN:VCALENDAR
VERSION:2.0
PRODID:-//Upper Grand Family Health Team - ECPv6.14.2//NONSGML v1.0//EN
CALSCALE:GREGORIAN
METHOD:PUBLISH
X-WR-CALNAME:Upper Grand Family Health Team
X-ORIGINAL-URL:https://uppergrandfht.org
X-WR-CALDESC:Events for Upper Grand Family Health Team
REFRESH-INTERVAL;VALUE=DURATION:PT1H
X-Robots-Tag:noindex
X-PUBLISHED-TTL:PT1H
BEGIN:VTIMEZONE
TZID:UTC
BEGIN:STANDARD
TZOFFSETFROM:+0000
TZOFFSETTO:+0000
TZNAME:UTC
DTSTART:20260101T000000
END:STANDARD
END:VTIMEZONE
BEGIN:VEVENT
DTSTART;TZID=UTC:20260212T150000
DTEND;TZID=UTC:20260212T170000
DTSTAMP:20260422T004847
CREATED:20251212T170229Z
LAST-MODIFIED:20251212T170229Z
UID:8097-1770908400-1770915600@uppergrandfht.org
SUMMARY:Heart Health Nutrition Class
DESCRIPTION:Learn how food and nutrition can help to lower your cholesterol\, manage your blood pressure\, and help you recover from a cardiac event. Meet online in a group setting with one of our registered dietitians. \n  \nFollow the link below to learn more or Check Dates and register here.
URL:https://uppergrandfht.org/event/heart-health-nutrition-class/
END:VEVENT
BEGIN:VEVENT
DTSTART;TZID=UTC:20260212T130000
DTEND;TZID=UTC:20260212T140000
DTSTAMP:20260422T004847
CREATED:20260114T200101Z
LAST-MODIFIED:20260114T200101Z
UID:8139-1770901200-1770904800@uppergrandfht.org
SUMMARY:Infant Feeding: Breasts & Bottles Drop-In
DESCRIPTION:Drop-in peer-to-peer and breastfeeding educator support for pregnant\, breast or bottle-feeding parents.
URL:https://uppergrandfht.org/event/infant-feeding-breasts-bottles-drop-in-4/
ORGANIZER;CN="Upper Grand FHT":MAILTO:info@uppergrandfht.org
END:VEVENT
BEGIN:VEVENT
DTSTART;TZID=UTC:20260205T130000
DTEND;TZID=UTC:20260205T140000
DTSTAMP:20260422T004847
CREATED:20260114T200019Z
LAST-MODIFIED:20260114T200019Z
UID:8137-1770296400-1770300000@uppergrandfht.org
SUMMARY:Infant Feeding: Breasts & Bottles Drop-In
DESCRIPTION:Drop-in peer-to-peer and breastfeeding educator support for pregnant\, breast or bottle-feeding parents.
URL:https://uppergrandfht.org/event/infant-feeding-breasts-bottles-drop-in-3/
ORGANIZER;CN="Upper Grand FHT":MAILTO:info@uppergrandfht.org
END:VEVENT
BEGIN:VEVENT
DTSTART;TZID=UTC:20260129T130000
DTEND;TZID=UTC:20260129T140000
DTSTAMP:20260422T004847
CREATED:20260114T195933Z
LAST-MODIFIED:20260114T200226Z
UID:8135-1769691600-1769695200@uppergrandfht.org
SUMMARY:Infant Feeding: Breasts & Bottles Drop-In
DESCRIPTION:Drop-in peer-to-peer and breastfeeding educator support for pregnant\, breast or bottle-feeding parents.
URL:https://uppergrandfht.org/event/infant-feeding-breasts-bottles-drop-in-2/
END:VEVENT
BEGIN:VEVENT
DTSTART;TZID=UTC:20260122T130000
DTEND;TZID=UTC:20260122T140000
DTSTAMP:20260422T004847
CREATED:20260114T195842Z
LAST-MODIFIED:20260114T195842Z
UID:8133-1769086800-1769090400@uppergrandfht.org
SUMMARY:Infant Feeding: Breasts & Bottles Drop-In
DESCRIPTION:Drop-in peer-to-peer and breastfeeding educator support for pregnant\, breast or bottle-feeding parents.
URL:https://uppergrandfht.org/event/infant-feeding-breasts-bottles-drop-in/
ORGANIZER;CN="Upper Grand FHT":MAILTO:info@uppergrandfht.org
END:VEVENT
END:VCALENDAR